BEGIN:VCALENDAR
VERSION:2.0
PRODID:-//wp-events-plugin.com//7.2.3.1//EN
BEGIN:VEVENT
UID:2659@pfarre-kierling.at
DTSTART;TZID=Europe/Vienna:20230220T190000
DTEND;TZID=Europe/Vienna:20230220T210000
DTSTAMP:20230129T063801Z
URL:https://www.pfarre-kierling.at/events/rosenmontag/
SUMMARY:🎶 Rosenmontag im Pfarrhof Kierling 🎭
DESCRIPTION:Mag. Gerald Pöschl & die Gasser-Buam laden zu einem unterhalt
 samen Faschingsabend mit Literatur & Musik.
ATTACH;FMTTYPE=image/jpeg:https://www.pfarre-kierling.at/wp-content/upload
 s/2023/01/rosenmontag.png
CATEGORIES:Bildung &amp; Kultur
LOCATION:Pfarrsaal Kierling\, Kirchenplatz 1\, Kierling\, 3400\, Österreic
 h
X-APPLE-STRUCTURED-LOCATION;VALUE=URI;X-ADDRESS=Kirchenplatz 1\, Kierling\,
  3400\, Österreich;X-APPLE-RADIUS=100;X-TITLE=Pfarrsaal Kierling:geo:0,0
END:VEVENT
BEGIN:VTIMEZONE
TZID:Europe/Vienna
X-LIC-LOCATION:Europe/Vienna
BEGIN:STANDARD
DTSTART:20221030T020000
TZOFFSETFROM:+0200
TZOFFSETTO:+0100
TZNAME:CET
END:STANDARD
END:VTIMEZONE
END:VCALENDAR