BEGIN:VCALENDAR
VERSION:2.0
PRODID:-//wp-events-plugin.com//7.2.3.1//EN
BEGIN:VEVENT
UID:2699@pfarre-kierling.at
DTSTART;TZID=Europe/Vienna:20231014T160000
DTEND;TZID=Europe/Vienna:20231014T173000
DTSTAMP:20231005T141304Z
URL:https://www.pfarre-kierling.at/events/rosenkranzknuepfen/
SUMMARY:Rosenkranzknüpfen
DESCRIPTION:Wir knüpfen einen Rosenkranz
ATTACH;FMTTYPE=image/jpeg:https://www.pfarre-kierling.at/wp-content/upload
 s/2023/07/images.jpeg
CATEGORIES:Bildung &amp; Kultur
LOCATION:Pfarrsaal Kierling\, Kirchenplatz 1\, Kierling\, 3400\, Österreic
 h
X-APPLE-STRUCTURED-LOCATION;VALUE=URI;X-ADDRESS=Kirchenplatz 1\, Kierling\,
  3400\, Österreich;X-APPLE-RADIUS=100;X-TITLE=Pfarrsaal Kierling:geo:0,0
END:VEVENT
BEGIN:VTIMEZONE
TZID:Europe/Vienna
X-LIC-LOCATION:Europe/Vienna
BEGIN:DAYLIGHT
DTSTART:20230326T030000
TZOFFSETFROM:+0100
TZOFFSETTO:+0200
TZNAME:CEST
END:DAYLIGHT
END:VTIMEZONE
END:VCALENDAR