BEGIN:VCALENDAR
VERSION:2.0
PRODID:-//wp-events-plugin.com//7.2.3.1//EN
BEGIN:VEVENT
UID:2800@pfarre-kierling.at
DTSTART;TZID=Europe/Vienna:20250406T073000
DTEND;TZID=Europe/Vienna:20250406T100000
DTSTAMP:20250311T111231Z
URL:https://www.pfarre-kierling.at/events/osterkerzen-palmbuschenverkauf-2
 /
SUMMARY:Osterkerzen & Palmbuschenverkauf
DESCRIPTION:Osterkerzen & Palmbuschenverkauf nach den Messen um 7:30 und 9:
 00 Uhr
ATTACH;FMTTYPE=image/jpeg:https://www.pfarre-kierling.at/wp-content/upload
 s/2025/03/osterkerzen2025.png
LOCATION:Kirche St. Peter u. Paul\, Kirchenplatz 1\, Kierling\, 3400\, Öst
 erreich
X-APPLE-STRUCTURED-LOCATION;VALUE=URI;X-ADDRESS=Kirchenplatz 1\, Kierling\,
  3400\, Österreich;X-APPLE-RADIUS=100;X-TITLE=Kirche St. Peter u. Paul:ge
 o:0,0
END:VEVENT
BEGIN:VTIMEZONE
TZID:Europe/Vienna
X-LIC-LOCATION:Europe/Vienna
BEGIN:DAYLIGHT
DTSTART:20250330T030000
TZOFFSETFROM:+0100
TZOFFSETTO:+0200
TZNAME:CEST
END:DAYLIGHT
END:VTIMEZONE
END:VCALENDAR