BEGIN:VCALENDAR
VERSION:2.0
PRODID:-//wp-events-plugin.com//7.2.3.1//EN
BEGIN:VEVENT
UID:2848@pfarre-kierling.at
DTSTART;TZID=Europe/Vienna:20251019T143000
DTEND;TZID=Europe/Vienna:20251019T153000
DTSTAMP:20250924T162011Z
URL:https://www.pfarre-kierling.at/events/juedischer-friedhof-in-klosterne
 uburg/
SUMMARY:Jüdischer Friedhof in Klosterneuburg
DESCRIPTION:eine Führung mit Mag. Barbara Weiss (Treffpunkt Holzgasse 67)
CATEGORIES:Bildung &amp; Kultur,Team Pfarrleben
LOCATION:Pfarrsaal Kierling\, Kirchenplatz 1\, Kierling\, 3400\, Österreic
 h
X-APPLE-STRUCTURED-LOCATION;VALUE=URI;X-ADDRESS=Kirchenplatz 1\, Kierling\,
  3400\, Österreich;X-APPLE-RADIUS=100;X-TITLE=Pfarrsaal Kierling:geo:0,0
END:VEVENT
BEGIN:VTIMEZONE
TZID:Europe/Vienna
X-LIC-LOCATION:Europe/Vienna
BEGIN:DAYLIGHT
DTSTART:20250330T030000
TZOFFSETFROM:+0100
TZOFFSETTO:+0200
TZNAME:CEST
END:DAYLIGHT
END:VTIMEZONE
END:VCALENDAR