BEGIN:VCALENDAR
VERSION:2.0
PRODID:-//wp-events-plugin.com//7.2.3.1//EN
BEGIN:VEVENT
UID:2767@pfarre-kierling.at
DTSTART;TZID=Europe/Vienna:20240815T063000
DTEND;TZID=Europe/Vienna:20240815T100000
DTSTAMP:20240523T144821Z
URL:https://www.pfarre-kierling.at/events/fusswallfahrt-in-die-lourdesgrot
 te/
SUMMARY:Fußwallfahrt in die Lourdesgrotte
DESCRIPTION:Fußwallfahrt in die Lourdesgrotte in Maria Gugging. Anschließ
 end wird eine Heilige Messe mit Kräutersegnung gefeiert.
ATTACH;FMTTYPE=image/jpeg:https://www.pfarre-kierling.at/wp-content/upload
 s/2023/07/Fusswallfahrt-2_00001.jpeg
CATEGORIES:Gottesdienst
LOCATION:Kirche St. Peter u. Paul\, Kirchenplatz 1\, Kierling\, 3400\, Öst
 erreich
X-APPLE-STRUCTURED-LOCATION;VALUE=URI;X-ADDRESS=Kirchenplatz 1\, Kierling\,
  3400\, Österreich;X-APPLE-RADIUS=100;X-TITLE=Kirche St. Peter u. Paul:ge
 o:0,0
END:VEVENT
BEGIN:VTIMEZONE
TZID:Europe/Vienna
X-LIC-LOCATION:Europe/Vienna
BEGIN:DAYLIGHT
DTSTART:20240331T030000
TZOFFSETFROM:+0100
TZOFFSETTO:+0200
TZNAME:CEST
END:DAYLIGHT
END:VTIMEZONE
END:VCALENDAR