BEGIN:VCALENDAR
VERSION:2.0
PRODID:-//wp-events-plugin.com//7.2.3.1//EN
BEGIN:VEVENT
UID:2671@pfarre-kierling.at
DTSTART;TZID=Europe/Vienna:20230512T180000
DTEND;TZID=Europe/Vienna:20230512T200000
DTSTAMP:20230419T124912Z
URL:https://www.pfarre-kierling.at/events/%f0%9f%a7%b6-handarbeitstreffen-
 %f0%9f%a6%81-3/
SUMMARY:🧶 Handarbeitstreffen 🦁
DESCRIPTION:Ran an die Nadeln! Wir laden zu einer geselligen Handarbeitsrun
 de in die Pfarre Kierling ein!
CATEGORIES:Gemeinsam Kreativ - Erwachsene
LOCATION:Pfarrsaal Kierling\, Kirchenplatz 1\, Kierling\, 3400\, Österreic
 h
X-APPLE-STRUCTURED-LOCATION;VALUE=URI;X-ADDRESS=Kirchenplatz 1\, Kierling\,
  3400\, Österreich;X-APPLE-RADIUS=100;X-TITLE=Pfarrsaal Kierling:geo:0,0
END:VEVENT
BEGIN:VTIMEZONE
TZID:Europe/Vienna
X-LIC-LOCATION:Europe/Vienna
BEGIN:DAYLIGHT
DTSTART:20230326T030000
TZOFFSETFROM:+0100
TZOFFSETTO:+0200
TZNAME:CEST
END:DAYLIGHT
END:VTIMEZONE
END:VCALENDAR