BEGIN:VCALENDAR
VERSION:2.0
PRODID:-//wp-events-plugin.com//7.2.3.1//EN
BEGIN:VEVENT
UID:2647@pfarre-kierling.at
DTSTART;TZID=Europe/Vienna:20221217T140000
DTEND;TZID=Europe/Vienna:20221217T140000
DTSTAMP:20221004T115928Z
URL:https://www.pfarre-kierling.at/events/%f0%9f%91%bc%f0%9f%8f%bd-ministu
 nde/
SUMMARY:👼🏽 Ministunde
DESCRIPTION:Programm wird noch nachgereicht
ATTACH;FMTTYPE=image/jpeg:https://www.pfarre-kierling.at/wp-content/upload
 s/2022/10/ministranten-gruppe.jpg
CATEGORIES:Ministranten Gruppe
END:VEVENT
BEGIN:VTIMEZONE
TZID:Europe/Vienna
X-LIC-LOCATION:Europe/Vienna
BEGIN:STANDARD
DTSTART:20221030T020000
TZOFFSETFROM:+0200
TZOFFSETTO:+0100
TZNAME:CET
END:STANDARD
END:VTIMEZONE
END:VCALENDAR