BEGIN:VCALENDAR
VERSION:2.0
PRODID:-//wp-events-plugin.com//7.2.3.1//EN
BEGIN:VEVENT
UID:2702@pfarre-kierling.at
DTSTART;TZID=Europe/Vienna:20231014T160000
DTEND;TZID=Europe/Vienna:20231014T170000
DTSTAMP:20231005T171149Z
URL:https://www.pfarre-kierling.at/events/%f0%9f%91%bc%f0%9f%8f%bd-ministu
 nde-5/
SUMMARY:👼🏽 Ministunde
DESCRIPTION:Wir knüpfen und gestalten einen großen Rosenkranz!
ATTACH;FMTTYPE=image/jpeg:https://www.pfarre-kierling.at/wp-content/upload
 s/2022/10/ministranten-gruppe.jpg
CATEGORIES:Ministranten Gruppe
LOCATION:Pfarrsaal Kierling\, Kirchenplatz 1\, Kierling\, 3400\, Österreic
 h
X-APPLE-STRUCTURED-LOCATION;VALUE=URI;X-ADDRESS=Kirchenplatz 1\, Kierling\,
  3400\, Österreich;X-APPLE-RADIUS=100;X-TITLE=Pfarrsaal Kierling:geo:0,0
END:VEVENT
BEGIN:VTIMEZONE
TZID:Europe/Vienna
X-LIC-LOCATION:Europe/Vienna
BEGIN:DAYLIGHT
DTSTART:20230326T030000
TZOFFSETFROM:+0100
TZOFFSETTO:+0200
TZNAME:CEST
END:DAYLIGHT
END:VTIMEZONE
END:VCALENDAR