BEGIN:VCALENDAR
VERSION:2.0
PRODID:-//wp-events-plugin.com//7.2.3.1//EN
BEGIN:VEVENT
UID:2708@pfarre-kierling.at
DTSTART;TZID=Europe/Vienna:20240309T160000
DTEND;TZID=Europe/Vienna:20240309T170000
DTSTAMP:20230711T045137Z
URL:https://www.pfarre-kierling.at/events/%f0%9f%91%bc%f0%9f%8f%bd-ministu
 nde-10/
SUMMARY:👼🏽 Ministunde
DESCRIPTION:Die Kierlinger Ministranten treffen einander.
ATTACH;FMTTYPE=image/jpeg:https://www.pfarre-kierling.at/wp-content/upload
 s/2022/10/ministranten-gruppe.jpg
CATEGORIES:Ministranten Gruppe
LOCATION:Pfarrsaal Kierling\, Kirchenplatz 1\, Kierling\, 3400\, Österreic
 h
X-APPLE-STRUCTURED-LOCATION;VALUE=URI;X-ADDRESS=Kirchenplatz 1\, Kierling\,
  3400\, Österreich;X-APPLE-RADIUS=100;X-TITLE=Pfarrsaal Kierling:geo:0,0
END:VEVENT
BEGIN:VTIMEZONE
TZID:Europe/Vienna
X-LIC-LOCATION:Europe/Vienna
BEGIN:STANDARD
DTSTART:20231029T020000
TZOFFSETFROM:+0200
TZOFFSETTO:+0100
TZNAME:CET
END:STANDARD
END:VTIMEZONE
END:VCALENDAR