BEGIN:VCALENDAR
VERSION:2.0
PRODID:-//wp-events-plugin.com//7.2.3.1//EN
BEGIN:VEVENT
UID:2630@pfarre-kierling.at
DTSTART;TZID=Europe/Vienna:20221109T100000
DTEND;TZID=Europe/Vienna:20221109T120000
DTSTAMP:20220908T213848Z
URL:https://www.pfarre-kierling.at/events/%f0%9f%91%b6-eltern-kind-runde-8
 /
SUMMARY:👶 Eltern Kind Runde
DESCRIPTION:Wir tauschen uns aus und lassen unsere Babys und Kleinkinder mi
 teinander spielen!
CATEGORIES:Eltern Kind Runde
LOCATION:Pfarrsaal Kierling\, Kirchenplatz 1\, Kierling\, 3400\, Österreic
 h
X-APPLE-STRUCTURED-LOCATION;VALUE=URI;X-ADDRESS=Kirchenplatz 1\, Kierling\,
  3400\, Österreich;X-APPLE-RADIUS=100;X-TITLE=Pfarrsaal Kierling:geo:0,0
END:VEVENT
BEGIN:VTIMEZONE
TZID:Europe/Vienna
X-LIC-LOCATION:Europe/Vienna
BEGIN:STANDARD
DTSTART:20221030T020000
TZOFFSETFROM:+0200
TZOFFSETTO:+0100
TZNAME:CET
END:STANDARD
END:VTIMEZONE
END:VCALENDAR