BEGIN:VCALENDAR
VERSION:2.0
PRODID:-//wp-events-plugin.com//7.2.3.1//EN
BEGIN:VEVENT
UID:2623@pfarre-kierling.at
DTSTART;TZID=Europe/Vienna:20220921T100000
DTEND;TZID=Europe/Vienna:20220921T120000
DTSTAMP:20220908T212047Z
URL:https://www.pfarre-kierling.at/events/%f0%9f%91%b6-eltern-kind-runde-2
 /
SUMMARY:👶 Eltern Kind Runde
DESCRIPTION:Wir tauschen uns aus und lassen unsere Babys und Kleinkinder mi
 teinander spielen!
CATEGORIES:Eltern Kind Runde
LOCATION:Pfarrsaal Kierling\, Kirchenplatz 1\, Kierling\, 3400\, Österreic
 h
X-APPLE-STRUCTURED-LOCATION;VALUE=URI;X-ADDRESS=Kirchenplatz 1\, Kierling\,
  3400\, Österreich;X-APPLE-RADIUS=100;X-TITLE=Pfarrsaal Kierling:geo:0,0
END:VEVENT
BEGIN:VTIMEZONE
TZID:Europe/Vienna
X-LIC-LOCATION:Europe/Vienna
BEGIN:DAYLIGHT
DTSTART:20220327T030000
TZOFFSETFROM:+0100
TZOFFSETTO:+0200
TZNAME:CEST
END:DAYLIGHT
END:VTIMEZONE
END:VCALENDAR