BEGIN:VCALENDAR
VERSION:2.0
PRODID:-//wp-events-plugin.com//7.2.3.1//EN
BEGIN:VEVENT
UID:2645@pfarre-kierling.at
DTSTART;TZID=Europe/Vienna:20230330T143000
DTEND;TZID=Europe/Vienna:20230330T163000
DTSTAMP:20230307T175057Z
URL:https://www.pfarre-kierling.at/events/%f0%9f%90%b1-oster-basteln/
SUMMARY:🐱 Osterbasteln
DESCRIPTION:Wir basteln für die Osterzeit!
ATTACH;FMTTYPE=image/jpeg:https://www.pfarre-kierling.at/wp-content/upload
 s/2023/03/Osterbasteln-Backen-2023.jpeg
CATEGORIES:Gemeinsam Kreativ - Kinder
LOCATION:Pfarrsaal Kierling\, Kirchenplatz 1\, Kierling\, 3400\, Österreic
 h
X-APPLE-STRUCTURED-LOCATION;VALUE=URI;X-ADDRESS=Kirchenplatz 1\, Kierling\,
  3400\, Österreich;X-APPLE-RADIUS=100;X-TITLE=Pfarrsaal Kierling:geo:0,0
END:VEVENT
BEGIN:VTIMEZONE
TZID:Europe/Vienna
X-LIC-LOCATION:Europe/Vienna
BEGIN:DAYLIGHT
DTSTART:20230326T030000
TZOFFSETFROM:+0100
TZOFFSETTO:+0200
TZNAME:CEST
END:DAYLIGHT
END:VTIMEZONE
END:VCALENDAR