BEGIN:VCALENDAR
VERSION:2.0
PRODID:-//wp-events-plugin.com//7.2.3.1//EN
BEGIN:VEVENT
UID:2644@pfarre-kierling.at
DTSTART;TZID=Europe/Vienna:20221201T150000
DTEND;TZID=Europe/Vienna:20221201T163000
DTSTAMP:20221004T114332Z
URL:https://www.pfarre-kierling.at/events/%f0%9f%90%b1-advent-basteln/
SUMMARY:🐱 Adventbasteln
DESCRIPTION:Wir basteln für die Adventzeit!
ATTACH;FMTTYPE=image/jpeg:https://www.pfarre-kierling.at/wp-content/upload
 s/2022/09/advent-basteln.jpeg
CATEGORIES:Gemeinsam Kreativ - Kinder
LOCATION:Pfarrsaal Kierling\, Kirchenplatz 1\, Kierling\, 3400\, Österreic
 h
X-APPLE-STRUCTURED-LOCATION;VALUE=URI;X-ADDRESS=Kirchenplatz 1\, Kierling\,
  3400\, Österreich;X-APPLE-RADIUS=100;X-TITLE=Pfarrsaal Kierling:geo:0,0
END:VEVENT
BEGIN:VTIMEZONE
TZID:Europe/Vienna
X-LIC-LOCATION:Europe/Vienna
BEGIN:STANDARD
DTSTART:20221030T020000
TZOFFSETFROM:+0200
TZOFFSETTO:+0100
TZNAME:CET
END:STANDARD
END:VTIMEZONE
END:VCALENDAR