BEGIN:VCALENDAR
VERSION:2.0
PRODID:-//wp-events-plugin.com//7.2.3.1//EN
BEGIN:VEVENT
UID:2642@pfarre-kierling.at
DTSTART;TZID=Europe/Vienna:20221204T160000
DTEND;TZID=Europe/Vienna:20221204T173000
DTSTAMP:20221003T122501Z
URL:https://www.pfarre-kierling.at/events/%f0%9f%8e%ad-zerbinettas-befreiu
 ng-6/
SUMMARY:🎭 Zerbinettas Befreiung
DESCRIPTION:Fritz von Herzmanovsky-Orlando
ATTACH;FMTTYPE=image/jpeg:https://www.pfarre-kierling.at/wp-content/upload
 s/2022/10/theatergruppe.jpg
CATEGORIES:KIPP
LOCATION:Pfarrsaal Kierling\, Kirchenplatz 1\, Kierling\, 3400\, Österreic
 h
X-APPLE-STRUCTURED-LOCATION;VALUE=URI;X-ADDRESS=Kirchenplatz 1\, Kierling\,
  3400\, Österreich;X-APPLE-RADIUS=100;X-TITLE=Pfarrsaal Kierling:geo:0,0
END:VEVENT
BEGIN:VTIMEZONE
TZID:Europe/Vienna
X-LIC-LOCATION:Europe/Vienna
BEGIN:STANDARD
DTSTART:20221030T020000
TZOFFSETFROM:+0200
TZOFFSETTO:+0100
TZNAME:CET
END:STANDARD
END:VTIMEZONE
END:VCALENDAR