BEGIN:VCALENDAR
VERSION:2.0
PRODID:-//wp-events-plugin.com//7.2.3.1//EN
BEGIN:VEVENT
UID:2776@pfarre-kierling.at
DTSTART;TZID=Europe/Vienna:20241201T090000
DTEND;TZID=Europe/Vienna:20241201T100000
DTSTAMP:20241111T084915Z
URL:https://www.pfarre-kierling.at/events/%f0%9f%8c%bc-familienmesse-2/
SUMMARY:🌼 Familienmesse
DESCRIPTION:Die Pfarre Kierling freut sich\, alle Familien zur unserer herz
 lichen und spirituellen Familienmesse einzuladen! 🌼
ATTACH;FMTTYPE=image/jpeg:https://www.pfarre-kierling.at/wp-content/upload
 s/2024/11/familien-messen-2024.jpeg
CATEGORIES:Gottesdienst
LOCATION:Kirche St. Peter u. Paul\, Kirchenplatz 1\, Kierling\, 3400\, Öst
 erreich
X-APPLE-STRUCTURED-LOCATION;VALUE=URI;X-ADDRESS=Kirchenplatz 1\, Kierling\,
  3400\, Österreich;X-APPLE-RADIUS=100;X-TITLE=Kirche St. Peter u. Paul:ge
 o:0,0
END:VEVENT
BEGIN:VTIMEZONE
TZID:Europe/Vienna
X-LIC-LOCATION:Europe/Vienna
BEGIN:STANDARD
DTSTART:20241027T020000
TZOFFSETFROM:+0200
TZOFFSETTO:+0100
TZNAME:CET
END:STANDARD
END:VTIMEZONE
END:VCALENDAR