BEGIN:VCALENDAR
VERSION:2.0
PRODID:-//wp-events-plugin.com//7.2.3.1//EN
BEGIN:VEVENT
UID:2717@pfarre-kierling.at
DTSTART;TZID=Europe/Vienna:20231209T160000
DTEND;TZID=Europe/Vienna:20231209T180000
DTSTAMP:20230823T055151Z
URL:https://www.pfarre-kierling.at/events/%e2%99%ac-weihnachtskonzert-musi
 kverein-kierling/
SUMMARY:♬ Weihnachtskonzert - Musikverein Kierling ♬
DESCRIPTION:Weihnachtskonzert des Musikvereins Kierling & Künstlern aus Ki
 erling
CATEGORIES:Advent in Kierling
LOCATION:Kirche St. Peter u. Paul\, Kirchenplatz 1\, Kierling\, 3400\, Öst
 erreich
X-APPLE-STRUCTURED-LOCATION;VALUE=URI;X-ADDRESS=Kirchenplatz 1\, Kierling\,
  3400\, Österreich;X-APPLE-RADIUS=100;X-TITLE=Kirche St. Peter u. Paul:ge
 o:0,0
END:VEVENT
BEGIN:VTIMEZONE
TZID:Europe/Vienna
X-LIC-LOCATION:Europe/Vienna
BEGIN:STANDARD
DTSTART:20231029T020000
TZOFFSETFROM:+0200
TZOFFSETTO:+0100
TZNAME:CET
END:STANDARD
END:VTIMEZONE
END:VCALENDAR