BEGIN:VCALENDAR
VERSION:2.0
PRODID:-//wp-events-plugin.com//7.2.3.1//EN
BEGIN:VEVENT
UID:2861@pfarre-kierling.at
DTSTART;TZID=Europe/Vienna:20260604T080000
DTEND;TZID=Europe/Vienna:20260604T090000
DTSTAMP:20260208T105827Z
URL:https://www.pfarre-kierling.at/events/%e2%99%ac-messe-zu-fronleichnam-
 %e2%99%ac-3/
SUMMARY:♬ Messe zu Fronleichnam ♬
DESCRIPTION:Die Messe zu Fronleichnam und die anschließende Prozession wir
 d vom Kirchenchor begleitet.
ATTACH;FMTTYPE=image/jpeg:https://www.pfarre-kierling.at/wp-content/upload
 s/2022/09/kirchenmusik.jpeg
CATEGORIES:Kirchenmusik
LOCATION:Kirche St. Peter u. Paul\, Kirchenplatz 1\, Kierling\, 3400\, Öst
 erreich
X-APPLE-STRUCTURED-LOCATION;VALUE=URI;X-ADDRESS=Kirchenplatz 1\, Kierling\,
  3400\, Österreich;X-APPLE-RADIUS=100;X-TITLE=Kirche St. Peter u. Paul:ge
 o:0,0
END:VEVENT
BEGIN:VTIMEZONE
TZID:Europe/Vienna
X-LIC-LOCATION:Europe/Vienna
BEGIN:DAYLIGHT
DTSTART:20260329T030000
TZOFFSETFROM:+0100
TZOFFSETTO:+0200
TZNAME:CEST
END:DAYLIGHT
END:VTIMEZONE
END:VCALENDAR