BEGIN:VCALENDAR
VERSION:2.0
PRODID:-//wp-events-plugin.com//7.2.3.1//EN
BEGIN:VEVENT
UID:2758@pfarre-kierling.at
DTSTART;TZID=Europe/Vienna:20241102T180000
DTEND;TZID=Europe/Vienna:20241102T190000
DTSTAMP:20240121T095337Z
URL:https://www.pfarre-kierling.at/events/%e2%99%ac-messe-zu-allerseelen-%
 e2%99%ac-2/
SUMMARY:♬ Messe zu Allerseelen ♬
DESCRIPTION:Die Messe zu Allerseelen wird vom Kirchenchor begleitet.
ATTACH;FMTTYPE=image/jpeg:https://www.pfarre-kierling.at/wp-content/upload
 s/2022/09/kirchenmusik.jpeg
CATEGORIES:Kirchenmusik
LOCATION:Kirche St. Peter u. Paul\, Kirchenplatz 1\, Kierling\, 3400\, Öst
 erreich
X-APPLE-STRUCTURED-LOCATION;VALUE=URI;X-ADDRESS=Kirchenplatz 1\, Kierling\,
  3400\, Österreich;X-APPLE-RADIUS=100;X-TITLE=Kirche St. Peter u. Paul:ge
 o:0,0
END:VEVENT
BEGIN:VTIMEZONE
TZID:Europe/Vienna
X-LIC-LOCATION:Europe/Vienna
BEGIN:STANDARD
DTSTART:20241027T020000
TZOFFSETFROM:+0200
TZOFFSETTO:+0100
TZNAME:CET
END:STANDARD
END:VTIMEZONE
END:VCALENDAR